BEGIN:VCALENDAR
VERSION:2.0
PRODID:-//Gmina Nowiny - ECPv6.2.9//NONSGML v1.0//EN
CALSCALE:GREGORIAN
METHOD:PUBLISH
X-WR-CALNAME:Gmina Nowiny
X-ORIGINAL-URL:https://www.nowiny.com.pl
X-WR-CALDESC:Events for Gmina Nowiny
REFRESH-INTERVAL;VALUE=DURATION:PT1H
X-Robots-Tag:noindex
X-PUBLISHED-TTL:PT1H
BEGIN:VTIMEZONE
TZID:Europe/Warsaw
BEGIN:DAYLIGHT
TZOFFSETFROM:+0100
TZOFFSETTO:+0200
TZNAME:CEST
DTSTART:20250330T010000
END:DAYLIGHT
BEGIN:STANDARD
TZOFFSETFROM:+0200
TZOFFSETTO:+0100
TZNAME:CET
DTSTART:20251026T010000
END:STANDARD
END:VTIMEZONE
BEGIN:VEVENT
DTSTART;VALUE=DATE:20250704
DTEND;VALUE=DATE:20250705
DTSTAMP:20260422T031229
CREATED:20250617T085326Z
LAST-MODIFIED:20250617T085326Z
UID:23418-1751587200-1751673599@www.nowiny.com.pl
SUMMARY:Maks Rzemiński - koncert fortepianowy
DESCRIPTION:Maks Rzemiński \nMuzyka filmowa – koncert fortepianowy
URL:https://www.nowiny.com.pl/wydarzenia/maks-rzeminski-koncert-fortepianowy/
END:VEVENT
BEGIN:VEVENT
DTSTART;VALUE=DATE:20250706
DTEND;VALUE=DATE:20250707
DTSTAMP:20260422T031229
CREATED:20250617T085425Z
LAST-MODIFIED:20250630T083308Z
UID:23420-1751760000-1751846399@www.nowiny.com.pl
SUMMARY:Rajd rowerowy
DESCRIPTION:
URL:https://www.nowiny.com.pl/wydarzenia/rajd-rowerowy/
ATTACH;FMTTYPE=image/png:https://www.nowiny.com.pl/wp-content/uploads/2025/06/rower.png
END:VEVENT
BEGIN:VEVENT
DTSTART;VALUE=DATE:20250711
DTEND;VALUE=DATE:20250712
DTSTAMP:20260422T031229
CREATED:20250617T085506Z
LAST-MODIFIED:20250617T085506Z
UID:23422-1752192000-1752278399@www.nowiny.com.pl
SUMMARY:Koncert Madrugada Sombra
DESCRIPTION:
URL:https://www.nowiny.com.pl/wydarzenia/koncert-madrugada-sombra/
END:VEVENT
BEGIN:VEVENT
DTSTART;VALUE=DATE:20250719
DTEND;VALUE=DATE:20250720
DTSTAMP:20260422T031229
CREATED:20250617T085533Z
LAST-MODIFIED:20250617T085533Z
UID:23424-1752883200-1752969599@www.nowiny.com.pl
SUMMARY:Kino letnie
DESCRIPTION:
URL:https://www.nowiny.com.pl/wydarzenia/kino-letnie/
END:VEVENT
BEGIN:VEVENT
DTSTART;VALUE=DATE:20250726
DTEND;VALUE=DATE:20250727
DTSTAMP:20260422T031229
CREATED:20250617T085601Z
LAST-MODIFIED:20250617T085601Z
UID:23426-1753488000-1753574399@www.nowiny.com.pl
SUMMARY:Letnia potańcówka
DESCRIPTION:
URL:https://www.nowiny.com.pl/wydarzenia/letnia-potancowka/
END:VEVENT
BEGIN:VEVENT
DTSTART;TZID=Europe/Warsaw:20250727T110000
DTEND;TZID=Europe/Warsaw:20250727T140000
DTSTAMP:20260422T031229
CREATED:20250715T081057Z
LAST-MODIFIED:20250715T081057Z
UID:23609-1753614000-1753624800@www.nowiny.com.pl
SUMMARY:Warsztaty edukacyjno-zawodowe
DESCRIPTION:
URL:https://www.nowiny.com.pl/wydarzenia/warsztaty-edukacyjno-zawodowe/
ATTACH;FMTTYPE=image/jpeg:https://www.nowiny.com.pl/wp-content/uploads/2025/07/plakat_warsztaty_strefy.jpg
END:VEVENT
END:VCALENDAR