BEGIN:VCALENDAR
VERSION:2.0
PRODID:-//Gmina Nowiny - ECPv6.2.9//NONSGML v1.0//EN
CALSCALE:GREGORIAN
METHOD:PUBLISH
X-WR-CALNAME:Gmina Nowiny
X-ORIGINAL-URL:https://www.nowiny.com.pl
X-WR-CALDESC:Events for Gmina Nowiny
REFRESH-INTERVAL;VALUE=DURATION:PT1H
X-Robots-Tag:noindex
X-PUBLISHED-TTL:PT1H
BEGIN:VTIMEZONE
TZID:Europe/Warsaw
BEGIN:DAYLIGHT
TZOFFSETFROM:+0100
TZOFFSETTO:+0200
TZNAME:CEST
DTSTART:20250330T010000
END:DAYLIGHT
BEGIN:STANDARD
TZOFFSETFROM:+0200
TZOFFSETTO:+0100
TZNAME:CET
DTSTART:20251026T010000
END:STANDARD
END:VTIMEZONE
BEGIN:VEVENT
DTSTART;VALUE=DATE:20251111
DTEND;VALUE=DATE:20251112
DTSTAMP:20260422T031930
CREATED:20250617T090010Z
LAST-MODIFIED:20250617T090010Z
UID:23438-1762819200-1762905599@www.nowiny.com.pl
SUMMARY:Święto Niepodległości
DESCRIPTION:
URL:https://www.nowiny.com.pl/wydarzenia/swieto-niepodleglosci/
END:VEVENT
BEGIN:VEVENT
DTSTART;VALUE=DATE:20251122
DTEND;VALUE=DATE:20251123
DTSTAMP:20260422T031930
CREATED:20250617T090055Z
LAST-MODIFIED:20250617T090055Z
UID:23440-1763769600-1763855999@www.nowiny.com.pl
SUMMARY:Festiwal Dobra Nuta - V edycja
DESCRIPTION:
URL:https://www.nowiny.com.pl/wydarzenia/festiwal-dobra-nuta-v-edycja/
END:VEVENT
BEGIN:VEVENT
DTSTART;VALUE=DATE:20251127
DTEND;VALUE=DATE:20251128
DTSTAMP:20260422T031930
CREATED:20250617T090124Z
LAST-MODIFIED:20250617T090124Z
UID:23442-1764201600-1764287999@www.nowiny.com.pl
SUMMARY:Andrzejki
DESCRIPTION:
URL:https://www.nowiny.com.pl/wydarzenia/andrzejki/
END:VEVENT
BEGIN:VEVENT
DTSTART;VALUE=DATE:20251202
DTEND;VALUE=DATE:20251203
DTSTAMP:20260422T031930
CREATED:20250617T090211Z
LAST-MODIFIED:20250617T090211Z
UID:23444-1764633600-1764719999@www.nowiny.com.pl
SUMMARY:Perłowe Talenty - V edycja
DESCRIPTION:
URL:https://www.nowiny.com.pl/wydarzenia/perlowe-talenty-v-edycja/
END:VEVENT
BEGIN:VEVENT
DTSTART;VALUE=DATE:20251205
DTEND;VALUE=DATE:20251206
DTSTAMP:20260422T031930
CREATED:20250617T090242Z
LAST-MODIFIED:20250617T090242Z
UID:23446-1764892800-1764979199@www.nowiny.com.pl
SUMMARY:Mikołajki dla dzieci
DESCRIPTION:
URL:https://www.nowiny.com.pl/wydarzenia/mikolajki-dla-dzieci/
END:VEVENT
BEGIN:VEVENT
DTSTART;VALUE=DATE:20251206
DTEND;VALUE=DATE:20251207
DTSTAMP:20260422T031930
CREATED:20250617T090334Z
LAST-MODIFIED:20250617T090334Z
UID:23448-1764979200-1765065599@www.nowiny.com.pl
SUMMARY:Bieg Barbórkowy
DESCRIPTION:
URL:https://www.nowiny.com.pl/wydarzenia/bieg-barborkowy/
END:VEVENT
BEGIN:VEVENT
DTSTART;VALUE=DATE:20251214
DTEND;VALUE=DATE:20251215
DTSTAMP:20260422T031930
CREATED:20250617T090410Z
LAST-MODIFIED:20250617T090410Z
UID:23450-1765670400-1765756799@www.nowiny.com.pl
SUMMARY:Jarmark Bożonarodzeniowy
DESCRIPTION:
URL:https://www.nowiny.com.pl/wydarzenia/jarmark-bozonarodzeniowy/
END:VEVENT
BEGIN:VEVENT
DTSTART;VALUE=DATE:20251231
DTEND;VALUE=DATE:20260101
DTSTAMP:20260422T031930
CREATED:20250617T090440Z
LAST-MODIFIED:20250617T090440Z
UID:23452-1767139200-1767225599@www.nowiny.com.pl
SUMMARY:Koncert Sylwestrowy
DESCRIPTION:
URL:https://www.nowiny.com.pl/wydarzenia/koncert-sylwestrowy/
END:VEVENT
END:VCALENDAR