BEGIN:VCALENDAR
VERSION:2.0
PRODID:-//Gmina Nowiny - ECPv6.2.9//NONSGML v1.0//EN
CALSCALE:GREGORIAN
METHOD:PUBLISH
X-WR-CALNAME:Gmina Nowiny
X-ORIGINAL-URL:https://www.nowiny.com.pl
X-WR-CALDESC:Events for Gmina Nowiny
REFRESH-INTERVAL;VALUE=DURATION:PT1H
X-Robots-Tag:noindex
X-PUBLISHED-TTL:PT1H
BEGIN:VTIMEZONE
TZID:Europe/Warsaw
BEGIN:DAYLIGHT
TZOFFSETFROM:+0100
TZOFFSETTO:+0200
TZNAME:CEST
DTSTART:20250330T010000
END:DAYLIGHT
BEGIN:STANDARD
TZOFFSETFROM:+0200
TZOFFSETTO:+0100
TZNAME:CET
DTSTART:20251026T010000
END:STANDARD
END:VTIMEZONE
BEGIN:VEVENT
DTSTART;VALUE=DATE:20250830
DTEND;VALUE=DATE:20250831
DTSTAMP:20260422T044322
CREATED:20250617T085720Z
LAST-MODIFIED:20250617T085720Z
UID:23430-1756512000-1756598399@www.nowiny.com.pl
SUMMARY:Kino letnie
DESCRIPTION:
URL:https://www.nowiny.com.pl/wydarzenia/kino-letnie-2/
END:VEVENT
END:VCALENDAR