BEGIN:VCALENDAR
VERSION:2.0
PRODID:-//Gmina Nowiny - ECPv6.2.9//NONSGML v1.0//EN
CALSCALE:GREGORIAN
METHOD:PUBLISH
X-WR-CALNAME:Gmina Nowiny
X-ORIGINAL-URL:https://www.nowiny.com.pl
X-WR-CALDESC:Events for Gmina Nowiny
REFRESH-INTERVAL;VALUE=DURATION:PT1H
X-Robots-Tag:noindex
X-PUBLISHED-TTL:PT1H
BEGIN:VTIMEZONE
TZID:Europe/Warsaw
BEGIN:DAYLIGHT
TZOFFSETFROM:+0100
TZOFFSETTO:+0200
TZNAME:CEST
DTSTART:20250330T010000
END:DAYLIGHT
BEGIN:STANDARD
TZOFFSETFROM:+0200
TZOFFSETTO:+0100
TZNAME:CET
DTSTART:20251026T010000
END:STANDARD
END:VTIMEZONE
BEGIN:VEVENT
DTSTART;TZID=Europe/Warsaw:20250611T180000
DTEND;TZID=Europe/Warsaw:20250611T180000
DTSTAMP:20260422T064054
CREATED:20250605T115113Z
LAST-MODIFIED:20250605T115113Z
UID:22943-1749664800-1749664800@www.nowiny.com.pl
SUMMARY:Rozmowy z pasją i z humorem - spotkanie z profesorem Jerzym Bralczykiem.
DESCRIPTION:Gminny Ośrodek Kultury „Perła” w Nowinach serdecznie zaprasza na niezwykłe spotkanie z jednym z najwybitniejszych językoznawców w Polsce – profesorem Jerzym Bralczykiem. To wydarzenie\, którego nie można przegapić! \n📅 Data: 11 czerwca 2025 (środa)\n🕕 Godzina: 18:00\n📍 Miejsce: Sala Koncertowa GOK „Perła”\, I piętro \nSpotkanie zatytułowane „Rozmowy z pasją i z humorem” będzie doskonałą okazją\, aby posłuchać mistrza słowa\, który z charakterystycznym dla siebie dowcipem i erudycją opowiada o języku\, kulturze i codzienności. \nJerzy Bralczyk – profesor nauk humanistycznych\, językoznawca\, specjalista w zakresie języka mediów\, reklamy i polityki\, a także wiceprzewodniczący Rady Języka Polskiego – to postać\, której przedstawiać nie trzeba. Jego barwne wypowiedzi i wyjątkowy styl od lat przyciągają uwagę zarówno pasjonatów języka polskiego\, jak i szerokiej publiczności. \nWstęp wolny!\nNie przegapcie okazji do intelektualnej uczty w doborowym towarzystwie! \n\nZapraszają:\nŁukasz Gryń – Wójt Gminy Nowiny\nEdyta Bobryk – Dyrektor Gminnego Ośrodka Kultury „Perła” w Nowinach
URL:https://www.nowiny.com.pl/wydarzenia/rozmowy-z-pasja-i-z-humorem-spotkanie-z-profesorem-jerzym-bralczykiem/
END:VEVENT
END:VCALENDAR